BEGIN:VCALENDAR
VERSION:2.0
PRODID:-//ChamberMaster//Event Calendar 2.0//EN
METHOD:PUBLISH
X-PUBLISHED-TTL:P3D
REFRESH-INTERVAL:P3D
CALSCALE:GREGORIAN
BEGIN:VEVENT
DTSTART;VALUE=DATE:19990219
DTEND;VALUE=DATE:19990220
TRANSP:TRANSPARENT
X-MICROSOFT-CDO-ALLDAYEVENT:TRUE
SUMMARY:Wine Exchange #3
DESCRIPTION:Join us as we discuss Gewurztraminers and the foods they compliment.  Bring a bottle of your favorite Gewurztraminers and a dish to pass.  Call for details.  Fenn Valley Vineyards - 616-561-2396.
X-ALT-DESC;FMTTYPE=text/html:Join us as we discuss Gewurztraminers and the foods they compliment.  Bring a bottle of your favorite Gewurztraminers and a dish to pass.  Call for details.  Fenn Valley Vineyards - 616-561-2396.
LOCATION:Fenn Valley Vineyards - Fennville
UID:e.1887.302
SEQUENCE:3
DTSTAMP:20260421T163031Z
URL:http://events.westcoastchamber.org/events/details/wine-exchange-3-02-19-1999-302
END:VEVENT

END:VCALENDAR
