BEGIN:VCALENDAR
VERSION:2.0
PRODID:-//ChamberMaster//Event Calendar 2.0//EN
METHOD:PUBLISH
X-PUBLISHED-TTL:P3D
REFRESH-INTERVAL:P3D
CALSCALE:GREGORIAN
BEGIN:VEVENT
DTSTART;VALUE=DATE:19990119
DTEND;VALUE=DATE:19990120
TRANSP:TRANSPARENT
X-MICROSOFT-CDO-ALLDAYEVENT:TRUE
SUMMARY:Wine Exchange #2
DESCRIPTION:Join us as we discuss Rieslings and what to serve with them.  Bring a bottle of your favorite Riesling and a dish to pass.  Call for details - 616-561-2396.
X-ALT-DESC;FMTTYPE=text/html:Join us as we discuss Rieslings and what to serve with them.  Bring a bottle of your favorite Riesling and a dish to pass.  Call for details - 616-561-2396.
LOCATION:Fenn Valley Vineyards - Fennville
UID:e.1887.291
SEQUENCE:3
DTSTAMP:20260421T174412Z
URL:http://events.westcoastchamber.org/events/details/wine-exchange-2-01-19-1999-291
END:VEVENT

END:VCALENDAR
