BEGIN:VCALENDAR
VERSION:2.0
PRODID:-//ChamberMaster//Event Calendar 2.0//EN
METHOD:PUBLISH
X-PUBLISHED-TTL:P3D
REFRESH-INTERVAL:P3D
CALSCALE:GREGORIAN
BEGIN:VEVENT
DTSTART;VALUE=DATE:19990214
DTEND;VALUE=DATE:19990215
TRANSP:TRANSPARENT
X-MICROSOFT-CDO-ALLDAYEVENT:TRUE
SUMMARY:Valentine's Day
DESCRIPTION:Happy Valentine's Day!
X-ALT-DESC;FMTTYPE=text/html:Happy Valentine's Day!
LOCATION:
UID:e.1887.271
SEQUENCE:3
DTSTAMP:20260421T163209Z
URL:http://events.westcoastchamber.org/events/details/valentine-s-day-02-14-1999-271
END:VEVENT

END:VCALENDAR
