BEGIN:VCALENDAR
VERSION:2.0
PRODID:-//ChamberMaster//Event Calendar 2.0//EN
METHOD:PUBLISH
X-PUBLISHED-TTL:P3D
REFRESH-INTERVAL:P3D
CALSCALE:GREGORIAN
BEGIN:VEVENT
DTSTART;VALUE=DATE:19981211
DTEND;VALUE=DATE:19981212
TRANSP:TRANSPARENT
X-MICROSOFT-CDO-ALLDAYEVENT:TRUE
SUMMARY:''Up On The Rooftops''
DESCRIPTION:Home Tour.  A glimpse of life and work above the shops of historic downtown Holland!  Reception following at the Holland Museum.  Admission is $10.00 per person.  Tickets available at the Holland Museum and the Holland Area CVB.  800-506-2399 or 616-394-0000.  All proceeds will benefit the Holland Museum.
X-ALT-DESC;FMTTYPE=text/html:Home Tour.  A glimpse of life and work above the shops of historic downtown Holland!  Reception following at the Holland Museum.  Admission is $10.00 per person.  Tickets available at the Holland Museum and the Holland Area CVB.  800-506-2399 or 616-394-0000.  All proceeds will benefit the Holland Museum.
LOCATION:Downtown Holland
UID:e.1887.207
SEQUENCE:3
DTSTAMP:20260422T132343Z
URL:http://events.westcoastchamber.org/events/details/up-on-the-rooftops-12-11-1998-207
END:VEVENT

END:VCALENDAR
