BEGIN:VCALENDAR
VERSION:2.0
PRODID:-//ChamberMaster//Event Calendar 2.0//EN
METHOD:PUBLISH
X-PUBLISHED-TTL:P3D
REFRESH-INTERVAL:P3D
CALSCALE:GREGORIAN
BEGIN:VEVENT
DTSTART;VALUE=DATE:19990218
DTEND;VALUE=DATE:19990219
TRANSP:TRANSPARENT
X-MICROSOFT-CDO-ALLDAYEVENT:TRUE
SUMMARY:Time Management Seminar
DESCRIPTION:Effective (not necessarily "efficient") Time Management.  A seminar presented by Rob Pocock.  If you want to pack more activities into your day\, don't waste your time on this seminar!  It puts a different twist on traditional time management.  The course material is based on the book\, "First Things First" by A. Roger Merrill\, Rebecca R. Merrill and Stephen R. Covey.  The evening includes lecture\, discussion and exercises to equip participants with practical\, time management tools.  It offers more than simple techniques.  You'll learn not only to do things right\, but to do the right things.  The Seminars Goal:  To organize and execute around priorities.  Topics to be covered:  **Identifying Personal Values\, **Setting Goals\, **Scheduling Time.  Cost is $35.00.
X-ALT-DESC;FMTTYPE=text/html:Effective (not necessarily "efficient") Time Management.  A seminar presented by Rob Pocock.  If you want to pack more activities into your day\, don't waste your time on this seminar!  It puts a different twist on traditional time management.  The course material is based on the book\, "First Things First" by A. Roger Merrill\, Rebecca R. Merrill and Stephen R. Covey.  The evening includes lecture\, discussion and exercises to equip participants with practical\, time management tools.  It offers more than simple techniques.  You'll learn not only to do things right\, but to do the right things.  The Seminars Goal:  To organize and execute around priorities.  Topics to be covered:  **Identifying Personal Values\, **Setting Goals\, **Scheduling Time.  Cost is $35.00.
LOCATION:Daveport College
UID:e.1887.185
SEQUENCE:3
DTSTAMP:20260421T163100Z
URL:http://events.westcoastchamber.org/events/details/time-management-seminar-02-18-1999-185
END:VEVENT

END:VCALENDAR
