BEGIN:VCALENDAR
VERSION:2.0
PRODID:-//ChamberMaster//Event Calendar 2.0//EN
METHOD:PUBLISH
X-PUBLISHED-TTL:P3D
REFRESH-INTERVAL:P3D
CALSCALE:GREGORIAN
BEGIN:VEVENT
DTSTART;VALUE=DATE:19990318
DTEND;VALUE=DATE:19990319
TRANSP:TRANSPARENT
X-MICROSOFT-CDO-ALLDAYEVENT:TRUE
SUMMARY:Team Building Seminar
DESCRIPTION:Team Building\, a seminar presented by Suzanne Gust\, Not-So-Basic-Training.  \nTeamwork is so simple. In fact we have been working in teams to accomplish tasks and goals for hundreds of years.  in business however\, teamwork and team dynamics tend to be a more recent phenomenon.  It is only recently that we have put emphasis on working with others and what can be accomplished as a team.  In a team workshop\, the skills of understanding and working in self-directed work teams for the benefit of each individual and the company is emphasized.  \n\nAfter successful completion of this course\, participants will be able to understand: **The life cycle of a team\; **The difference between working with people and becoming a self-directed work team\; **The benefit of working in teams\; **The goals and objectives of teams\; **Individual contributions to teams.  Cost is $35.00.
X-ALT-DESC;FMTTYPE=text/html:Team Building\, a seminar presented by Suzanne Gust\, Not-So-Basic-Training.  \nTeamwork is so simple. In fact we have been working in teams to accomplish tasks and goals for hundreds of years.  in business however\, teamwork and team dynamics tend to be a more recent phenomenon.  It is only recently that we have put emphasis on working with others and what can be accomplished as a team.  In a team workshop\, the skills of understanding and working in self-directed work teams for the benefit of each individual and the company is emphasized.  \n\nAfter successful completion of this course\, participants will be able to understand: **The life cycle of a team\; **The difference between working with people and becoming a self-directed work team\; **The benefit of working in teams\; **The goals and objectives of teams\; **Individual contributions to teams.  Cost is $35.00.
LOCATION:Davenport College
UID:e.1887.186
SEQUENCE:3
DTSTAMP:20260421T153618Z
URL:http://events.westcoastchamber.org/events/details/team-building-seminar-03-18-1999-186
END:VEVENT

END:VCALENDAR
