BEGIN:VCALENDAR
VERSION:2.0
PRODID:-//ChamberMaster//Event Calendar 2.0//EN
METHOD:PUBLISH
X-PUBLISHED-TTL:P3D
REFRESH-INTERVAL:P3D
CALSCALE:GREGORIAN
BEGIN:VEVENT
DTSTART;VALUE=DATE:19981119
DTEND;VALUE=DATE:19981120
TRANSP:TRANSPARENT
X-MICROSOFT-CDO-ALLDAYEVENT:TRUE
SUMMARY:Strategic Planning
DESCRIPTION:Whole Systems Approach to Strategic Planning\, presented by Linda McFadden\,  Watershed Stategies.  \n\nNew whole systems approaches to strategic planning address traditional shortcomings by focusing on including all of the knowledge in a system early on\, employing new assumptions or mental models about stakeholder participation and commitment\, and leveraging a variety of group processes.\n\nThis session will include an interactive approach to explore:  A comparison of the traditional model for strategic planning and a whole systems approach - Real Time Strategic Change\; Case Studies: Marriott\, Mobil Oil\, Progressive AE and others\; Applicaton to your business\; Organizational readiness-conditions for success.\n\nCost is $35.00.  Registrations required.
X-ALT-DESC;FMTTYPE=text/html:Whole Systems Approach to Strategic Planning\, presented by Linda McFadden\,  Watershed Stategies.  \n\nNew whole systems approaches to strategic planning address traditional shortcomings by focusing on including all of the knowledge in a system early on\, employing new assumptions or mental models about stakeholder participation and commitment\, and leveraging a variety of group processes.\n\nThis session will include an interactive approach to explore:  A comparison of the traditional model for strategic planning and a whole systems approach - Real Time Strategic Change\; Case Studies: Marriott\, Mobil Oil\, Progressive AE and others\; Applicaton to your business\; Organizational readiness-conditions for success.\n\nCost is $35.00.  Registrations required.\n\n
LOCATION:Davenport College - Holland
UID:e.1887.181
SEQUENCE:3
DTSTAMP:20260421T202335Z
URL:http://events.westcoastchamber.org/events/details/strategic-planning-11-19-1998-181
END:VEVENT

END:VCALENDAR
