BEGIN:VCALENDAR
VERSION:2.0
PRODID:-//ChamberMaster//Event Calendar 2.0//EN
METHOD:PUBLISH
X-PUBLISHED-TTL:P3D
REFRESH-INTERVAL:P3D
CALSCALE:GREGORIAN
BEGIN:VEVENT
DTSTART;VALUE=DATE:19990206
DTEND;VALUE=DATE:19990207
TRANSP:TRANSPARENT
X-MICROSOFT-CDO-ALLDAYEVENT:TRUE
SUMMARY:Stories for Wintertime
DESCRIPTION:See Owl Moon and other winter stories on the big screen as they are read.  This program is for young children 3 years or older with their care giver.  Fee is $1\, members free.  Call to register 616-355-1057.
X-ALT-DESC;FMTTYPE=text/html:See Owl Moon and other winter stories on the big screen as they are read.  This program is for young children 3 years or older with their care giver.  Fee is $1\, members free.  Call to register 616-355-1057.
LOCATION:DeGraaf Nature Center
UID:e.1887.298
SEQUENCE:3
DTSTAMP:20260421T163249Z
URL:http://events.westcoastchamber.org/events/details/stories-for-wintertime-02-06-1999-298
END:VEVENT

END:VCALENDAR
