BEGIN:VCALENDAR
VERSION:2.0
PRODID:-//ChamberMaster//Event Calendar 2.0//EN
METHOD:PUBLISH
X-PUBLISHED-TTL:P3D
REFRESH-INTERVAL:P3D
CALSCALE:GREGORIAN
BEGIN:VEVENT
DTSTART;VALUE=DATE:19981121
DTEND;VALUE=DATE:19981122
TRANSP:TRANSPARENT
X-MICROSOFT-CDO-ALLDAYEVENT:TRUE
SUMMARY:Spirit of Giving Christmas Parade
DESCRIPTION:Bring canned goods to share and enjoy the arrival of Santa Clause for the season!  Information call 1-800-506-1299 or 616-394-0000.
X-ALT-DESC;FMTTYPE=text/html:Bring canned goods to share and enjoy the arrival of Santa Clause for the season!  Information call 1-800-506-1299 or 616-394-0000.
LOCATION:Downtown Holland
UID:e.1887.194
SEQUENCE:3
DTSTAMP:20260421T203840Z
URL:http://events.westcoastchamber.org/events/details/spirit-of-giving-christmas-parade-11-21-1998-194
END:VEVENT

END:VCALENDAR
