BEGIN:VCALENDAR
VERSION:2.0
PRODID:-//ChamberMaster//Event Calendar 2.0//EN
METHOD:PUBLISH
X-PUBLISHED-TTL:P3D
REFRESH-INTERVAL:P3D
CALSCALE:GREGORIAN
BEGIN:VEVENT
DTSTART;VALUE=DATE:19990116
DTEND;VALUE=DATE:19990117
TRANSP:TRANSPARENT
X-MICROSOFT-CDO-ALLDAYEVENT:TRUE
SUMMARY:Snowshoe Hike at Van Raalte Farm
DESCRIPTION:Meet at the 16th St. parking lot of Van Raalte Farm for a winter walk on snowshoes.  Explore for tracks and other wildlife signs.  For children 7 yrs. or older and their families.  Snowshoes provided.  Fee is $1.00\, members free.  Call to register 616-355-1057.  Sponsored by DeGraaf Nature Center.
X-ALT-DESC;FMTTYPE=text/html:Meet at the 16th St. parking lot of Van Raalte Farm for a winter walk on snowshoes.  Explore for tracks and other wildlife signs.  For children 7 yrs. or older and their families.  Snowshoes provided.  Fee is $1.00\, members free.  Call to register 616-355-1057.  Sponsored by DeGraaf Nature Center.
LOCATION:Van Raalte Farm - 16th St. parking lot
UID:e.1887.290
SEQUENCE:3
DTSTAMP:20260421T175747Z
URL:http://events.westcoastchamber.org/events/details/snowshoe-hike-at-van-raalte-farm-01-16-1999-290
END:VEVENT

END:VCALENDAR
