BEGIN:VCALENDAR
VERSION:2.0
PRODID:-//ChamberMaster//Event Calendar 2.0//EN
METHOD:PUBLISH
X-PUBLISHED-TTL:P3D
REFRESH-INTERVAL:P3D
CALSCALE:GREGORIAN
BEGIN:VEVENT
DTSTART;VALUE=DATE:19990220
DTEND;VALUE=DATE:19990221
TRANSP:TRANSPARENT
X-MICROSOFT-CDO-ALLDAYEVENT:TRUE
SUMMARY:Snow School #2
DESCRIPTION:This session of winter fun will focus on the adaptations of the wild creatures for surviving and prospering in Michigan's winter weather.  Showshoe hike included if conditions are right.  Fee is $1\, members free.  Call DeGraaf Nature Center to register - 616-355-1057.
X-ALT-DESC;FMTTYPE=text/html:This session of winter fun will focus on the adaptations of the wild creatures for surviving and prospering in Michigan's winter weather.  Showshoe hike included if conditions are right.  Fee is $1\, members free.  Call DeGraaf Nature Center to register - 616-355-1057.
LOCATION:DeGraaf Nature Center
UID:e.1887.305
SEQUENCE:3
DTSTAMP:20260421T163040Z
URL:http://events.westcoastchamber.org/events/details/snow-school-2-02-20-1999-305
END:VEVENT

END:VCALENDAR
