BEGIN:VCALENDAR
VERSION:2.0
PRODID:-//ChamberMaster//Event Calendar 2.0//EN
METHOD:PUBLISH
X-PUBLISHED-TTL:P3D
REFRESH-INTERVAL:P3D
CALSCALE:GREGORIAN
BEGIN:VEVENT
DTSTART;VALUE=DATE:19990130
DTEND;VALUE=DATE:19990131
TRANSP:TRANSPARENT
X-MICROSOFT-CDO-ALLDAYEVENT:TRUE
SUMMARY:Snow School #1
DESCRIPTION:This winter favorite is all about snow.  Kids 7 yrs. or older and adults\, too.  We learn about snow and how animals take advantage of it.  Fee is $1\, members free.  Call to register 616-355-1057.
X-ALT-DESC;FMTTYPE=text/html:This winter favorite is all about snow.  Kids 7 yrs. or older and adults\, too.  We learn about snow and how animals take advantage of it.  Fee is $1\, members free.  Call to register 616-355-1057.
LOCATION:DeGraaf Nature Center
UID:e.1887.295
SEQUENCE:3
DTSTAMP:20260421T174936Z
URL:http://events.westcoastchamber.org/events/details/snow-school-1-01-30-1999-295
END:VEVENT

END:VCALENDAR
