BEGIN:VCALENDAR
VERSION:2.0
PRODID:-//ChamberMaster//Event Calendar 2.0//EN
METHOD:PUBLISH
X-PUBLISHED-TTL:P3D
REFRESH-INTERVAL:P3D
CALSCALE:GREGORIAN
BEGIN:VEVENT
DTSTART;VALUE=DATE:19981029
DTEND;VALUE=DATE:19981030
TRANSP:TRANSPARENT
X-MICROSOFT-CDO-ALLDAYEVENT:TRUE
SUMMARY:Small Business Month Featured Speaker
DESCRIPTION:Building Situational Awareness in Your Marketplace\, featuring the Afterburners.\n\nToday\, more than ever\, Business is Combat.  Afterburners are a cutting-edge management training team composed of a select group of our nation's top military fighter pilots.  Their mission--use combat proven fighter pilot skills to achieve victory in today's business world.\n\nDuring the evening\, attendees will experience firsthand the similarities between business and air combat.  Your "fighter pilots" will learn about debriefing to win\, eliminating performance task saturation\, and opening the lines of communication in a nameless\, faceless\, wrinkleless debrief.\n\nCost is $45.00.
X-ALT-DESC;FMTTYPE=text/html:Building Situational Awareness in Your Marketplace\, featuring the Afterburners.\n\nToday\, more than ever\, Business is Combat.  Afterburners are a cutting-edge management training team composed of a select group of our nation's top military fighter pilots.  Their mission--use combat proven fighter pilot skills to achieve victory in today's business world.\n\nDuring the evening\, attendees will experience firsthand the similarities between business and air combat.  Your "fighter pilots" will learn about debriefing to win\, eliminating performance task saturation\, and opening the lines of communication in a nameless\, faceless\, wrinkleless debrief.\n\nCost is $45.00.
LOCATION:West Ottawa High School Performing Arts
UID:e.1887.154
SEQUENCE:3
DTSTAMP:20260421T214001Z
URL:http://events.westcoastchamber.org/events/details/small-business-month-featured-speaker-10-29-1998-154
END:VEVENT

END:VCALENDAR
