BEGIN:VCALENDAR
VERSION:2.0
PRODID:-//ChamberMaster//Event Calendar 2.0//EN
METHOD:PUBLISH
X-PUBLISHED-TTL:P3D
REFRESH-INTERVAL:P3D
CALSCALE:GREGORIAN
BEGIN:VEVENT
DTSTART;VALUE=DATE:19981204
DTEND;VALUE=DATE:19981205
TRANSP:TRANSPARENT
X-MICROSOFT-CDO-ALLDAYEVENT:TRUE
SUMMARY:Sinterklaas Eve
DESCRIPTION:Sinterklaas arrives in Downtown Holland aboard his white horse\, accompanied by his Zwarte Piets.  He will greet children of all ages and refreshments will be served.  For more information call 616-394-0000 or 800-506-1299.
X-ALT-DESC;FMTTYPE=text/html:Sinterklaas arrives in Downtown Holland aboard his white horse\, accompanied by his Zwarte Piets.  He will greet children of all ages and refreshments will be served.  For more information call 616-394-0000 or 800-506-1299.
LOCATION:Downtown Holland
UID:e.1887.203
SEQUENCE:3
DTSTAMP:20260422T132329Z
URL:http://events.westcoastchamber.org/events/details/sinterklaas-eve-12-04-1998-203
END:VEVENT

END:VCALENDAR
