BEGIN:VCALENDAR
VERSION:2.0
PRODID:-//ChamberMaster//Event Calendar 2.0//EN
METHOD:PUBLISH
X-PUBLISHED-TTL:P3D
REFRESH-INTERVAL:P3D
CALSCALE:GREGORIAN
BEGIN:VEVENT
DTSTART;VALUE=DATE:19981114
DTEND;VALUE=DATE:19981115
TRANSP:TRANSPARENT
X-MICROSOFT-CDO-ALLDAYEVENT:TRUE
SUMMARY:Semi-Annual Doll Show
DESCRIPTION:Buy\, sell or trade!  Information call 616-355-1130.
X-ALT-DESC;FMTTYPE=text/html:Buy\, sell or trade!  Information call 616-355-1130.
LOCATION:Holland Civic Center
UID:e.1887.195
SEQUENCE:3
DTSTAMP:20260421T203308Z
URL:http://events.westcoastchamber.org/events/details/semi-annual-doll-show-11-14-1998-195
END:VEVENT

END:VCALENDAR
