BEGIN:VCALENDAR
VERSION:2.0
PRODID:-//ChamberMaster//Event Calendar 2.0//EN
METHOD:PUBLISH
X-PUBLISHED-TTL:P3D
REFRESH-INTERVAL:P3D
CALSCALE:GREGORIAN
BEGIN:VEVENT
DTSTART;VALUE=DATE:19990220
DTEND;VALUE=DATE:19990221
TRANSP:TRANSPARENT
X-MICROSOFT-CDO-ALLDAYEVENT:TRUE
SUMMARY:Safari Saturday
DESCRIPTION:You are invited to a treasure hunt tour of the Getz Farm exhibit.  Enjoy a mini traveling zoo\, skins to touch and animal mask making.  Sample safari food & jungle juice after your hunt.  Safari attire optional.  Holland Museum - 616-392-9084.
X-ALT-DESC;FMTTYPE=text/html:You are invited to a treasure hunt tour of the Getz Farm exhibit.  Enjoy a mini traveling zoo\, skins to touch and animal mask making.  Sample safari food & jungle juice after your hunt.  Safari attire optional.  Holland Museum - 616-392-9084.
LOCATION:Holland Museum
UID:e.1887.303
SEQUENCE:3
DTSTAMP:20260421T163305Z
URL:http://events.westcoastchamber.org/events/details/safari-saturday-02-20-1999-303
END:VEVENT

END:VCALENDAR
