BEGIN:VCALENDAR
VERSION:2.0
PRODID:-//ChamberMaster//Event Calendar 2.0//EN
METHOD:PUBLISH
X-PUBLISHED-TTL:P3D
REFRESH-INTERVAL:P3D
CALSCALE:GREGORIAN
BEGIN:VEVENT
DTSTART;VALUE=DATE:19981228
DTEND;VALUE=DATE:19981229
TRANSP:TRANSPARENT
X-MICROSOFT-CDO-ALLDAYEVENT:TRUE
SUMMARY:Pioneer Projects for Wintertime
DESCRIPTION:Children can learn how pioneers survived cold winters by dipping candles\, piecing quilt squares and more!  Come morning or afternoon.  Call for registration 616-392-9084.
X-ALT-DESC;FMTTYPE=text/html:Children can learn how pioneers survived cold winters by dipping candles\, piecing quilt squares and more!  Come morning or afternoon.  Call for registration 616-392-9084.
LOCATION:Holland Museum
UID:e.1887.216
SEQUENCE:3
DTSTAMP:20260421T191219Z
URL:http://events.westcoastchamber.org/events/details/pioneer-projects-for-wintertime-12-28-1998-216
END:VEVENT

END:VCALENDAR
