BEGIN:VCALENDAR
VERSION:2.0
PRODID:-//ChamberMaster//Event Calendar 2.0//EN
METHOD:PUBLISH
X-PUBLISHED-TTL:P3D
REFRESH-INTERVAL:P3D
CALSCALE:GREGORIAN
BEGIN:VEVENT
DTSTART;VALUE=DATE:19981212
DTEND;VALUE=DATE:19981213
TRANSP:TRANSPARENT
X-MICROSOFT-CDO-ALLDAYEVENT:TRUE
SUMMARY:Pioneer Christmas
DESCRIPTION:Stories\, crafts\, hot cocoa and cookies make this old fashioned Christmas event an annual favorite!  No entrance fee.  Fees for some crafts.
X-ALT-DESC;FMTTYPE=text/html:Stories\, crafts\, hot cocoa and cookies make this old fashioned Christmas event an annual favorite!  No entrance fee.  Fees for some crafts.
LOCATION:DeGraaf Nature Center
UID:e.1887.209
SEQUENCE:3
DTSTAMP:20260421T191433Z
URL:http://events.westcoastchamber.org/events/details/pioneer-christmas-12-12-1998-209
END:VEVENT

END:VCALENDAR
