BEGIN:VCALENDAR
VERSION:2.0
PRODID:-//ChamberMaster//Event Calendar 2.0//EN
METHOD:PUBLISH
X-PUBLISHED-TTL:P3D
REFRESH-INTERVAL:P3D
CALSCALE:GREGORIAN
BEGIN:VEVENT
DTSTART;VALUE=DATE:19981210
DTEND;VALUE=DATE:19981211
TRANSP:TRANSPARENT
X-MICROSOFT-CDO-ALLDAYEVENT:TRUE
SUMMARY:''Parents Night Out''
DESCRIPTION:A Dutch WinterFest Event!  Children (4-9 yrs.) can enjoy making a holiday card to take home and a special Getz Farm Exhibit Tour!  Children will be entertained while you shop for those special gifts at the Shops of Downtown Holland!  Call to register at 616-392-9084.
X-ALT-DESC;FMTTYPE=text/html:A Dutch WinterFest Event!  Children (4-9 yrs.) can enjoy making a holiday card to take home and a special Getz Farm Exhibit Tour!  Children will be entertained while you shop for those special gifts at the Shops of Downtown Holland!  Call to register at 616-392-9084.
LOCATION:Holland Museum
UID:e.1887.205
SEQUENCE:3
DTSTAMP:20260421T191445Z
URL:http://events.westcoastchamber.org/events/details/parents-night-out-12-10-1998-205
END:VEVENT

END:VCALENDAR
