BEGIN:VCALENDAR
VERSION:2.0
PRODID:-//ChamberMaster//Event Calendar 2.0//EN
METHOD:PUBLISH
X-PUBLISHED-TTL:P3D
REFRESH-INTERVAL:P3D
CALSCALE:GREGORIAN
BEGIN:VEVENT
DTSTART;VALUE=DATE:19990205
DTEND;VALUE=DATE:19990206
TRANSP:TRANSPARENT
X-MICROSOFT-CDO-ALLDAYEVENT:TRUE
SUMMARY:Owl Prowl
DESCRIPTION:Meet at the Van Raalte Farm parking lot off Country Club Road for a stroll in the natural area to call for owls.  We may find barred owls\, screech owls or more.  Fee is $1\, members free.  Call to register - 616-355-1057.  Sponsored by DeGraaf Nature Center.
X-ALT-DESC;FMTTYPE=text/html:Meet at the Van Raalte Farm parking lot off Country Club Road for a stroll in the natural area to call for owls.  We may find barred owls\, screech owls or more.  Fee is $1\, members free.  Call to register - 616-355-1057.  Sponsored by DeGraaf Nature Center.
LOCATION:DeGraaf Nature Center
UID:e.1887.297
SEQUENCE:3
DTSTAMP:20260421T163118Z
URL:http://events.westcoastchamber.org/events/details/owl-prowl-02-05-1999-297
END:VEVENT

END:VCALENDAR
