BEGIN:VCALENDAR
VERSION:2.0
PRODID:-//ChamberMaster//Event Calendar 2.0//EN
METHOD:PUBLISH
X-PUBLISHED-TTL:P3D
REFRESH-INTERVAL:P3D
CALSCALE:GREGORIAN
BEGIN:VEVENT
DTSTART;VALUE=DATE:19990108
DTEND;VALUE=DATE:19990109
TRANSP:TRANSPARENT
X-MICROSOFT-CDO-ALLDAYEVENT:TRUE
SUMMARY:Owl Prowl
DESCRIPTION:At this time of theyear\, owls are courting and becoming very territoruial.  That makes it a great time to do a little hooting ourselves!  We will learn about the amazing adaptations and see a live captive owl too.  Fee is $1.00.  Members free.  Call to register 616-355-1057.
X-ALT-DESC;FMTTYPE=text/html:At this time of theyear\, owls are courting and becoming very territoruial.  That makes it a great time to do a little hooting ourselves!  We will learn about the amazing adaptations and see a live captive owl too.  Fee is $1.00.  Members free.  Call to register 616-355-1057.
LOCATION:DeGraaf Nature Center
UID:e.1887.285
SEQUENCE:3
DTSTAMP:20260421T174700Z
URL:http://events.westcoastchamber.org/events/details/owl-prowl-01-08-1999-285
END:VEVENT

END:VCALENDAR
