BEGIN:VCALENDAR
VERSION:2.0
PRODID:-//ChamberMaster//Event Calendar 2.0//EN
METHOD:PUBLISH
X-PUBLISHED-TTL:P3D
REFRESH-INTERVAL:P3D
CALSCALE:GREGORIAN
BEGIN:VEVENT
DTSTART;VALUE=DATE:19990109
DTEND;VALUE=DATE:19990110
TRANSP:TRANSPARENT
X-MICROSOFT-CDO-ALLDAYEVENT:TRUE
SUMMARY:On the Track of Animals
DESCRIPTION:Learn about the signs that wild animals leave behind-from tracks\, nests\, scent marks and more.  Fee is $1.00.  Members Free.  Call to register 616-355-1057.
X-ALT-DESC;FMTTYPE=text/html:Learn about the signs that wild animals leave behind-from tracks\, nests\, scent marks and more.  Fee is $1.00.  Members Free.  Call to register 616-355-1057.
LOCATION:DeGraaf Nature Center
UID:e.1887.287
SEQUENCE:3
DTSTAMP:20260421T175638Z
URL:http://events.westcoastchamber.org/events/details/on-the-track-of-animals-01-09-1999-287
END:VEVENT

END:VCALENDAR
