BEGIN:VCALENDAR
VERSION:2.0
PRODID:-//ChamberMaster//Event Calendar 2.0//EN
METHOD:PUBLISH
X-PUBLISHED-TTL:P3D
REFRESH-INTERVAL:P3D
CALSCALE:GREGORIAN
BEGIN:VEVENT
DTSTART;VALUE=DATE:19981231
DTEND;VALUE=DATE:19990101
TRANSP:TRANSPARENT
X-MICROSOFT-CDO-ALLDAYEVENT:TRUE
SUMMARY:Office closed
DESCRIPTION:Have a safe and Happy New Years!
X-ALT-DESC;FMTTYPE=text/html:Have a safe and Happy New Years!
LOCATION:
UID:e.1887.278
SEQUENCE:3
DTSTAMP:20260422T132235Z
URL:http://events.westcoastchamber.org/events/details/office-closed-12-31-1998-278
END:VEVENT

END:VCALENDAR
