BEGIN:VCALENDAR
VERSION:2.0
PRODID:-//ChamberMaster//Event Calendar 2.0//EN
METHOD:PUBLISH
X-PUBLISHED-TTL:P3D
REFRESH-INTERVAL:P3D
CALSCALE:GREGORIAN
BEGIN:VEVENT
DTSTART;VALUE=DATE:19981205
DTEND;VALUE=DATE:19981206
TRANSP:TRANSPARENT
X-MICROSOFT-CDO-ALLDAYEVENT:TRUE
SUMMARY:Noveau Fest
DESCRIPTION:Taste wine from the new vintage!  Cellar tours\, barrel samples available.  Information call 800-432-6265.
X-ALT-DESC;FMTTYPE=text/html:Taste wine from the new vintage!  Cellar tours\, barrel samples available.  Information call 800-432-6265.
LOCATION:Fenn Valley Winery
UID:e.1887.219
SEQUENCE:3
DTSTAMP:20260421T191432Z
URL:http://events.westcoastchamber.org/events/details/noveau-fest-12-05-1998-219
END:VEVENT

END:VCALENDAR
