BEGIN:VCALENDAR
VERSION:2.0
PRODID:-//ChamberMaster//Event Calendar 2.0//EN
METHOD:PUBLISH
X-PUBLISHED-TTL:P3D
REFRESH-INTERVAL:P3D
CALSCALE:GREGORIAN
BEGIN:VEVENT
DTSTART;VALUE=DATE:19981231
DTEND;VALUE=DATE:19990101
TRANSP:TRANSPARENT
X-MICROSOFT-CDO-ALLDAYEVENT:TRUE
SUMMARY:New Year's Fest Run/Walk
DESCRIPTION:Join the Holland Community in celebration of good health & the New Year with a fun run/walk!  Beginning at the Dow Center\, music\, food and prizes offered after the walk.  Sponsored by Gazelle Sports.  To register or for more information call 616-940-9888.
X-ALT-DESC;FMTTYPE=text/html:Join the Holland Community in celebration of good health & the New Year with a fun run/walk!  Beginning at the Dow Center\, music\, food and prizes offered after the walk.  Sponsored by Gazelle Sports.  To register or for more information call 616-940-9888.
LOCATION:Hope College Dow Center
UID:e.1887.218
SEQUENCE:3
DTSTAMP:20260421T191350Z
URL:http://events.westcoastchamber.org/events/details/new-year-s-fest-run-walk-12-31-1998-218
END:VEVENT

END:VCALENDAR
