BEGIN:VCALENDAR
VERSION:2.0
PRODID:-//ChamberMaster//Event Calendar 2.0//EN
METHOD:PUBLISH
X-PUBLISHED-TTL:P3D
REFRESH-INTERVAL:P3D
CALSCALE:GREGORIAN
BEGIN:VEVENT
DTSTART;VALUE=DATE:19981121
DTEND;VALUE=DATE:19981122
TRANSP:TRANSPARENT
X-MICROSOFT-CDO-ALLDAYEVENT:TRUE
SUMMARY:Navajo Folk Art Slide/Lecture
DESCRIPTION:Learn about another culture through their art!  Sponsored by the SHaker Messenger.  For more information call 616-396-4588
X-ALT-DESC;FMTTYPE=text/html:Learn about another culture through their art!  Sponsored by the SHaker Messenger.  For more information call 616-396-4588
LOCATION:Holland Civic Theatre
UID:e.1887.196
SEQUENCE:3
DTSTAMP:20260421T203459Z
URL:http://events.westcoastchamber.org/events/details/navajo-folk-art-slide-lecture-11-21-1998-196
END:VEVENT

END:VCALENDAR
