BEGIN:VCALENDAR
VERSION:2.0
PRODID:-//ChamberMaster//Event Calendar 2.0//EN
METHOD:PUBLISH
X-PUBLISHED-TTL:P3D
REFRESH-INTERVAL:P3D
CALSCALE:GREGORIAN
BEGIN:VEVENT
DTSTART;VALUE=DATE:19970618
DTEND;VALUE=DATE:19970619
TRANSP:TRANSPARENT
X-MICROSOFT-CDO-ALLDAYEVENT:TRUE
SUMMARY:Mid-Day Forum-6/18/97
DESCRIPTION:
X-ALT-DESC;FMTTYPE=text/html:
LOCATION:Haworth Conf. Center
UID:e.1887.24
SEQUENCE:3
DTSTAMP:20260424T101252Z
URL:http://events.westcoastchamber.org/events/details/mid-day-forum-6-18-97-06-18-1997-24
END:VEVENT

END:VCALENDAR
