BEGIN:VCALENDAR
VERSION:2.0
PRODID:-//ChamberMaster//Event Calendar 2.0//EN
METHOD:PUBLISH
X-PUBLISHED-TTL:P3D
REFRESH-INTERVAL:P3D
CALSCALE:GREGORIAN
BEGIN:VEVENT
DTSTART;VALUE=DATE:19980520
DTEND;VALUE=DATE:19980521
TRANSP:TRANSPARENT
X-MICROSOFT-CDO-ALLDAYEVENT:TRUE
SUMMARY:Mid-Day Forum - 5/20/98
DESCRIPTION:
X-ALT-DESC;FMTTYPE=text/html:
LOCATION:Hope College
UID:e.1887.94
SEQUENCE:3
DTSTAMP:20260423T171706Z
URL:http://events.westcoastchamber.org/events/details/mid-day-forum-5-20-98-05-20-1998-94
END:VEVENT

END:VCALENDAR
