BEGIN:VCALENDAR
VERSION:2.0
PRODID:-//ChamberMaster//Event Calendar 2.0//EN
METHOD:PUBLISH
X-PUBLISHED-TTL:P3D
REFRESH-INTERVAL:P3D
CALSCALE:GREGORIAN
BEGIN:VEVENT
DTSTART;VALUE=DATE:19990317
DTEND;VALUE=DATE:19990318
TRANSP:TRANSPARENT
X-MICROSOFT-CDO-ALLDAYEVENT:TRUE
SUMMARY:Mid-Day Forum
DESCRIPTION:Holland's Kollen Park and the Western Gateway to Downtown.  Presented by Phil Meyer\, City of Holland.  \n\nJoin us for an overview on the Western Gateway/Kollen Park project.  Learn about the long-range planning the city has done for downtown and the central neighborhoods as they relate to Kollen Park\, the Western Machine Tool Building\, the former Sugar Beet site\, and the Washington Boulevard neighborhood.  Sponsor is GMB Architects-Engineers.  Cost is $10.00
X-ALT-DESC;FMTTYPE=text/html:Holland's Kollen Park and the Western Gateway to Downtown.  Presented by Phil Meyer\, City of Holland.  \n\nJoin us for an overview on the Western Gateway/Kollen Park project.  Learn about the long-range planning the city has done for downtown and the central neighborhoods as they relate to Kollen Park\, the Western Machine Tool Building\, the former Sugar Beet site\, and the Washington Boulevard neighborhood.  Sponsor is GMB Architects-Engineers.  Cost is $10.00
LOCATION:Maas Conference Center - Hope College
UID:e.1887.266
SEQUENCE:3
DTSTAMP:20260421T151327Z
URL:http://events.westcoastchamber.org/events/details/mid-day-forum-03-17-1999-266
END:VEVENT

END:VCALENDAR
