BEGIN:VCALENDAR
VERSION:2.0
PRODID:-//ChamberMaster//Event Calendar 2.0//EN
METHOD:PUBLISH
X-PUBLISHED-TTL:P3D
REFRESH-INTERVAL:P3D
CALSCALE:GREGORIAN
BEGIN:VEVENT
DTSTART;VALUE=DATE:19990120
DTEND;VALUE=DATE:19990121
TRANSP:TRANSPARENT
X-MICROSOFT-CDO-ALLDAYEVENT:TRUE
SUMMARY:Mid-Day Forum
DESCRIPTION:Help...I Want to Retire...But How?  Presented by De Boer Baumann & Company.  Have you thought about retiring\, but don't know where to begin?  Well\, this Mid-Day Forum will give you the things to think about before retiring\, including:  ** Why currently employed people need to do a retirement plan.  ** How the role of Government in providing Social Security is changing.  **How the employer provided defined benefit pension plan is changing.  ** what's required to be retired.  **The best plan for retirement.  **Why qualified retirement plans are the most efficient way to invest.  Sponsor is AirTouch Cellular.  Cost is $10.00
X-ALT-DESC;FMTTYPE=text/html:Help...I Want to Retire...But How?  Presented by De Boer Baumann & Company.  Have you thought about retiring\, but don't know where to begin?  Well\, this Mid-Day Forum will give you the things to think about before retiring\, including:  ** Why currently employed people need to do a retirement plan.  ** How the role of Government in providing Social Security is changing.  **How the employer provided defined benefit pension plan is changing.  ** what's required to be retired.  **The best plan for retirement.  **Why qualified retirement plans are the most efficient way to invest.  Sponsor is AirTouch Cellular.  Cost is $10.00
LOCATION:Maas Conference Center - Hope College
UID:e.1887.265
SEQUENCE:3
DTSTAMP:20260421T174326Z
URL:http://events.westcoastchamber.org/events/details/mid-day-forum-01-20-1999-265
END:VEVENT

END:VCALENDAR
