BEGIN:VCALENDAR
VERSION:2.0
PRODID:-//ChamberMaster//Event Calendar 2.0//EN
METHOD:PUBLISH
X-PUBLISHED-TTL:P3D
REFRESH-INTERVAL:P3D
CALSCALE:GREGORIAN
BEGIN:VEVENT
DTSTART;VALUE=DATE:19980326
DTEND;VALUE=DATE:19980423
TRANSP:TRANSPARENT
X-MICROSOFT-CDO-ALLDAYEVENT:TRUE
SUMMARY:Membership Services Luncheon
DESCRIPTION:
X-ALT-DESC;FMTTYPE=text/html:
LOCATION:Haworth Inn & Conference Center
UID:e.1887.96
SEQUENCE:3
DTSTAMP:20260423T185005Z
URL:http://events.westcoastchamber.org/events/details/membership-services-luncheon-03-26-1998-96
END:VEVENT

END:VCALENDAR
