BEGIN:VCALENDAR
VERSION:2.0
PRODID:-//ChamberMaster//Event Calendar 2.0//EN
METHOD:PUBLISH
X-PUBLISHED-TTL:P3D
REFRESH-INTERVAL:P3D
CALSCALE:GREGORIAN
BEGIN:VEVENT
DTSTART;VALUE=DATE:19981221
DTEND;VALUE=DATE:19981222
TRANSP:TRANSPARENT
X-MICROSOFT-CDO-ALLDAYEVENT:TRUE
SUMMARY:Meet With Pete Hoekstra Breakfast
DESCRIPTION:Join the Governmental Affairs Committee at its annual update with Congressman Pete Hoekstra.  Hoekstra has just been elected to his fourth term representing Michigan's Second Congressional District.  He serves as chairman of the Oversight and Investigations Subcommittee of the House Committee on Education and the Workforce.  During the 105th Congress\, Pete chaired the Education at a Crossroads Project which examined what works and what is wasted in the American Education system.  He also chaired the teamsters election investigation which examined the failed 1996 teamsters election.  Hoekstra is a member of the House Budget Committee where he was happy to oversee the 1997\, 70 billion dollar national budget surplus.\n\nCost is $12.00
X-ALT-DESC;FMTTYPE=text/html:Join the Governmental Affairs Committee at its annual update with Congressman Pete Hoekstra.  Hoekstra has just been elected to his fourth term representing Michigan's Second Congressional District.  He serves as chairman of the Oversight and Investigations Subcommittee of the House Committee on Education and the Workforce.  During the 105th Congress\, Pete chaired the Education at a Crossroads Project which examined what works and what is wasted in the American Education system.  He also chaired the teamsters election investigation which examined the failed 1996 teamsters election.  Hoekstra is a member of the House Budget Committee where he was happy to oversee the 1997\, 70 billion dollar national budget surplus.\n\nCost is $12.00
LOCATION:Holiday Inn
UID:e.1887.164
SEQUENCE:3
DTSTAMP:20260421T191256Z
URL:http://events.westcoastchamber.org/events/details/meet-with-pete-hoekstra-breakfast-12-21-1998-164
END:VEVENT

END:VCALENDAR
