BEGIN:VCALENDAR
VERSION:2.0
PRODID:-//ChamberMaster//Event Calendar 2.0//EN
METHOD:PUBLISH
X-PUBLISHED-TTL:P3D
REFRESH-INTERVAL:P3D
CALSCALE:GREGORIAN
BEGIN:VEVENT
DTSTART;VALUE=DATE:19990320
DTEND;VALUE=DATE:19990321
TRANSP:TRANSPARENT
X-MICROSOFT-CDO-ALLDAYEVENT:TRUE
SUMMARY:March Festival
DESCRIPTION:For more information contact the Holland Chorale at 616-786-3172.
X-ALT-DESC;FMTTYPE=text/html:For more information contact the Holland Chorale at 616-786-3172.
LOCATION:
UID:e.1887.307
SEQUENCE:3
DTSTAMP:20260421T151815Z
URL:http://events.westcoastchamber.org/events/details/march-festival-03-20-1999-307
END:VEVENT

END:VCALENDAR
