BEGIN:VCALENDAR
VERSION:2.0
PRODID:-//ChamberMaster//Event Calendar 2.0//EN
METHOD:PUBLISH
X-PUBLISHED-TTL:P3D
REFRESH-INTERVAL:P3D
CALSCALE:GREGORIAN
BEGIN:VEVENT
DTSTART;VALUE=DATE:19980101
DTEND;VALUE=DATE:19980102
TRANSP:TRANSPARENT
X-MICROSOFT-CDO-ALLDAYEVENT:TRUE
SUMMARY:Managing to Leading Seminar
DESCRIPTION:
X-ALT-DESC;FMTTYPE=text/html:
LOCATION:Davenport College
UID:e.1887.64
SEQUENCE:3
DTSTAMP:20260423T232606Z
URL:http://events.westcoastchamber.org/events/details/managing-to-leading-seminar-01-01-1998-64
END:VEVENT

END:VCALENDAR
