BEGIN:VCALENDAR
VERSION:2.0
PRODID:-//ChamberMaster//Event Calendar 2.0//EN
METHOD:PUBLISH
X-PUBLISHED-TTL:P3D
REFRESH-INTERVAL:P3D
CALSCALE:GREGORIAN
BEGIN:VEVENT
DTSTART;VALUE=DATE:19981127
DTEND;VALUE=DATE:19981128
TRANSP:TRANSPARENT
X-MICROSOFT-CDO-ALLDAYEVENT:TRUE
SUMMARY:''Light Up The Holidays'' & Lantern Parade
DESCRIPTION:Children carrying lanterns will lead Santa to Centennial Park where he will join the mayor of Holland as they flip the switch!  This event is the traditional Dutch Winterfest kick-off!  Information call 616-394-0000.
X-ALT-DESC;FMTTYPE=text/html:Children carrying lanterns will lead Santa to Centennial Park where he will join the mayor of Holland as they flip the switch!  This event is the traditional Dutch Winterfest kick-off!  Information call 616-394-0000.
LOCATION:Downtown Holland
UID:e.1887.197
SEQUENCE:3
DTSTAMP:20260421T202946Z
URL:http://events.westcoastchamber.org/events/details/light-up-the-holidays-lantern-parade-11-27-1998-197
END:VEVENT

END:VCALENDAR
