BEGIN:VCALENDAR
VERSION:2.0
PRODID:-//ChamberMaster//Event Calendar 2.0//EN
METHOD:PUBLISH
X-PUBLISHED-TTL:P3D
REFRESH-INTERVAL:P3D
CALSCALE:GREGORIAN
BEGIN:VEVENT
DTSTART;VALUE=DATE:19970916
DTEND;VALUE=DATE:19970917
TRANSP:TRANSPARENT
X-MICROSOFT-CDO-ALLDAYEVENT:TRUE
SUMMARY:Leadership Luncheon-9/16/97
DESCRIPTION:
X-ALT-DESC;FMTTYPE=text/html:
LOCATION:AlpenRose Restaurant
UID:e.1887.41
SEQUENCE:3
DTSTAMP:20260424T052935Z
URL:http://events.westcoastchamber.org/events/details/leadership-luncheon-9-16-97-09-16-1997-41
END:VEVENT

END:VCALENDAR
