BEGIN:VCALENDAR
VERSION:2.0
PRODID:-//ChamberMaster//Event Calendar 2.0//EN
METHOD:PUBLISH
X-PUBLISHED-TTL:P3D
REFRESH-INTERVAL:P3D
CALSCALE:GREGORIAN
BEGIN:VEVENT
DTSTART;VALUE=DATE:19981219
DTEND;VALUE=DATE:19981220
TRANSP:TRANSPARENT
X-MICROSOFT-CDO-ALLDAYEVENT:TRUE
SUMMARY:''La Posada''
DESCRIPTION:The re-enactment of the journey of Mary and Joseph performed in song\, followed by food & entertainment.  Sponsored by the Latin Americans United for Progress.  Additional information 616-399-4077.
X-ALT-DESC;FMTTYPE=text/html:The re-enactment of the journey of Mary and Joseph performed in song\, followed by food & entertainment.  Sponsored by the Latin Americans United for Progress.  Additional information 616-399-4077.
LOCATION:Evergreen Commons
UID:e.1887.212
SEQUENCE:3
DTSTAMP:20260422T132156Z
URL:http://events.westcoastchamber.org/events/details/la-posada-12-19-1998-212
END:VEVENT

END:VCALENDAR
