BEGIN:VCALENDAR
VERSION:2.0
PRODID:-//ChamberMaster//Event Calendar 2.0//EN
METHOD:PUBLISH
X-PUBLISHED-TTL:P3D
REFRESH-INTERVAL:P3D
CALSCALE:GREGORIAN
BEGIN:VEVENT
DTSTART;VALUE=DATE:19971023
DTEND;VALUE=DATE:19971024
TRANSP:TRANSPARENT
X-MICROSOFT-CDO-ALLDAYEVENT:TRUE
SUMMARY:Humor\, Risk & Change-C.W. Metcalf
DESCRIPTION:
X-ALT-DESC;FMTTYPE=text/html:
LOCATION:West Ottawa Performing Arts Center
UID:e.1887.40
SEQUENCE:3
DTSTAMP:20260424T040138Z
URL:http://events.westcoastchamber.org/events/details/humor-risk-change-c-w-metcalf-10-23-1997-40
END:VEVENT

END:VCALENDAR
