BEGIN:VCALENDAR
VERSION:2.0
PRODID:-//ChamberMaster//Event Calendar 2.0//EN
METHOD:PUBLISH
X-PUBLISHED-TTL:P3D
REFRESH-INTERVAL:P3D
CALSCALE:GREGORIAN
BEGIN:VEVENT
DTSTART;VALUE=DATE:19980507
DTEND;VALUE=DATE:19980508
TRANSP:TRANSPARENT
X-MICROSOFT-CDO-ALLDAYEVENT:TRUE
SUMMARY:How To Start A Business Seminar-5/7/98
DESCRIPTION:
X-ALT-DESC;FMTTYPE=text/html:
LOCATION:Davenport College
UID:e.1887.104
SEQUENCE:3
DTSTAMP:20260423T171923Z
URL:http://events.westcoastchamber.org/events/details/how-to-start-a-business-seminar-5-7-98-05-07-1998-104
END:VEVENT

END:VCALENDAR
