BEGIN:VCALENDAR
VERSION:2.0
PRODID:-//ChamberMaster//Event Calendar 2.0//EN
METHOD:PUBLISH
X-PUBLISHED-TTL:P3D
REFRESH-INTERVAL:P3D
CALSCALE:GREGORIAN
BEGIN:VEVENT
DTSTART;VALUE=DATE:19971204
DTEND;VALUE=DATE:19971205
TRANSP:TRANSPARENT
X-MICROSOFT-CDO-ALLDAYEVENT:TRUE
SUMMARY:How To Start A Business Seminar-12/4/97
DESCRIPTION:
X-ALT-DESC;FMTTYPE=text/html:
LOCATION:Davenport College
UID:e.1887.59
SEQUENCE:3
DTSTAMP:20260424T005252Z
URL:http://events.westcoastchamber.org/events/details/how-to-start-a-business-seminar-12-4-97-12-04-1997-59
END:VEVENT

END:VCALENDAR
