BEGIN:VCALENDAR
VERSION:2.0
PRODID:-//ChamberMaster//Event Calendar 2.0//EN
METHOD:PUBLISH
X-PUBLISHED-TTL:P3D
REFRESH-INTERVAL:P3D
CALSCALE:GREGORIAN
BEGIN:VEVENT
DTSTART;VALUE=DATE:19981203
DTEND;VALUE=DATE:19981204
TRANSP:TRANSPARENT
X-MICROSOFT-CDO-ALLDAYEVENT:TRUE
SUMMARY:How to Start A Business Seminar
DESCRIPTION:Presenters are Chuck Brower\, Jon Van Allsburg\, Jeff Bart\, Rob Pocock\, Jim Edewaard\, Neil DeBoer\, Greg Christie and Ken Freestone.  Cost is $35.00.
X-ALT-DESC;FMTTYPE=text/html:Presenters are Chuck Brower\, Jon Van Allsburg\, Jeff Bart\, Rob Pocock\, Jim Edewaard\, Neil DeBoer\, Greg Christie and Ken Freestone.  Cost is $35.00.
LOCATION:Davenport College
UID:e.1887.182
SEQUENCE:3
DTSTAMP:20260421T191346Z
URL:http://events.westcoastchamber.org/events/details/how-to-start-a-business-seminar-12-03-1998-182
END:VEVENT

END:VCALENDAR
