BEGIN:VCALENDAR
VERSION:2.0
PRODID:-//ChamberMaster//Event Calendar 2.0//EN
METHOD:PUBLISH
X-PUBLISHED-TTL:P3D
REFRESH-INTERVAL:P3D
CALSCALE:GREGORIAN
BEGIN:VEVENT
DTSTART;VALUE=DATE:19981217
DTEND;VALUE=DATE:19981221
TRANSP:TRANSPARENT
X-MICROSOFT-CDO-ALLDAYEVENT:TRUE
SUMMARY:Holland Chorale Dinner Show
DESCRIPTION:This spectacular musical performance with fine dining has become a holiday tradition!  Call 616-786-3172 for reservations.
X-ALT-DESC;FMTTYPE=text/html:This spectacular musical performance with fine dining has become a holiday tradition!  Call 616-786-3172 for reservations.
LOCATION:Hope College Maas Center
UID:e.1887.211
SEQUENCE:3
DTSTAMP:20260421T191257Z
URL:http://events.westcoastchamber.org/events/details/holland-chorale-dinner-show-12-17-1998-211
END:VEVENT

END:VCALENDAR
