BEGIN:VCALENDAR
VERSION:2.0
PRODID:-//ChamberMaster//Event Calendar 2.0//EN
METHOD:PUBLISH
X-PUBLISHED-TTL:P3D
REFRESH-INTERVAL:P3D
CALSCALE:GREGORIAN
BEGIN:VEVENT
DTSTART;VALUE=DATE:19981127
DTEND;VALUE=DATE:19981128
TRANSP:TRANSPARENT
X-MICROSOFT-CDO-ALLDAYEVENT:TRUE
SUMMARY:Holland Area Chamber of Commerce Closing
DESCRIPTION:The Chamber will be closed today.  We wish you a happy and safe holiday weekend.
X-ALT-DESC;FMTTYPE=text/html:The Chamber will be closed today.  We wish you a happy and safe holiday weekend.
LOCATION:
UID:e.1887.206
SEQUENCE:3
DTSTAMP:20260421T203503Z
URL:http://events.westcoastchamber.org/events/details/holland-area-chamber-of-commerce-closing-11-27-1998-206
END:VEVENT

END:VCALENDAR
