BEGIN:VCALENDAR
VERSION:2.0
PRODID:-//ChamberMaster//Event Calendar 2.0//EN
METHOD:PUBLISH
X-PUBLISHED-TTL:P3D
REFRESH-INTERVAL:P3D
CALSCALE:GREGORIAN
BEGIN:VEVENT
DTSTART;VALUE=DATE:19981203
DTEND;VALUE=DATE:19981204
TRANSP:TRANSPARENT
X-MICROSOFT-CDO-ALLDAYEVENT:TRUE
SUMMARY:Holiday Home Tour
DESCRIPTION:Visit beautiful homes\, festively decorated for the season.  Tour 4 homes\, the Cappon House & Holland Museum.  Tickets available at the museum or Fellowship Reformed Church.  For additional information call 616-392-9084.
X-ALT-DESC;FMTTYPE=text/html:Visit beautiful homes\, festively decorated for the season.  Tour 4 homes\, the Cappon House & Holland Museum.  Tickets available at the museum or Fellowship Reformed Church.  For additional information call 616-392-9084.
LOCATION:Holland - 12/3/1998
UID:e.1887.200
SEQUENCE:3
DTSTAMP:20260421T191408Z
URL:http://events.westcoastchamber.org/events/details/holiday-home-tour-12-03-1998-200
END:VEVENT

END:VCALENDAR
