BEGIN:VCALENDAR
VERSION:2.0
PRODID:-//ChamberMaster//Event Calendar 2.0//EN
METHOD:PUBLISH
X-PUBLISHED-TTL:P3D
REFRESH-INTERVAL:P3D
CALSCALE:GREGORIAN
BEGIN:VEVENT
DTSTART;VALUE=DATE:19981212
DTEND;VALUE=DATE:19981214
TRANSP:TRANSPARENT
X-MICROSOFT-CDO-ALLDAYEVENT:TRUE
SUMMARY:Holiday High Tea
DESCRIPTION:Enjoy tea\, sandwiches\, scones and a talk on tea traditions by Serenity Tea room owner\, Anne Drabezyk.  $20 includes admission to the Museum.  $17 for members.  Must have pre-paid reservations.  For more information or tickets call 616-392-9084.
X-ALT-DESC;FMTTYPE=text/html:Enjoy tea\, sandwiches\, scones and a talk on tea traditions by Serenity Tea room owner\, Anne Drabezyk.  $20 includes admission to the Museum.  $17 for members.  Must have pre-paid reservations.  For more information or tickets call 616-392-9084.
LOCATION:Holland Museum
UID:e.1887.210
SEQUENCE:3
DTSTAMP:20260421T191203Z
URL:http://events.westcoastchamber.org/events/details/holiday-high-tea-12-12-1998-210
END:VEVENT

END:VCALENDAR
