BEGIN:VCALENDAR
VERSION:2.0
PRODID:-//ChamberMaster//Event Calendar 2.0//EN
METHOD:PUBLISH
X-PUBLISHED-TTL:P3D
REFRESH-INTERVAL:P3D
CALSCALE:GREGORIAN
BEGIN:VEVENT
DTSTART;VALUE=DATE:19990415
DTEND;VALUE=DATE:19990416
TRANSP:TRANSPARENT
X-MICROSOFT-CDO-ALLDAYEVENT:TRUE
SUMMARY:Hiring & Firing Seminar
DESCRIPTION:Presenter is Lou Rabaut\, Warner Norcross & Judd.  Cost is $35.00.
X-ALT-DESC;FMTTYPE=text/html:Presenter is Lou Rabaut\, Warner Norcross & Judd.  Cost is $35.00.
LOCATION:Davenport College
UID:e.1887.187
SEQUENCE:3
DTSTAMP:20260421T135917Z
URL:http://events.westcoastchamber.org/events/details/hiring-firing-seminar-04-15-1999-187
END:VEVENT

END:VCALENDAR
