BEGIN:VCALENDAR
VERSION:2.0
PRODID:-//ChamberMaster//Event Calendar 2.0//EN
METHOD:PUBLISH
X-PUBLISHED-TTL:P3D
REFRESH-INTERVAL:P3D
CALSCALE:GREGORIAN
BEGIN:VEVENT
DTSTART;VALUE=DATE:19981126
DTEND;VALUE=DATE:19981127
TRANSP:TRANSPARENT
X-MICROSOFT-CDO-ALLDAYEVENT:TRUE
SUMMARY:Happy Thanksgiving!
DESCRIPTION:Enjoy a wonderful holiday!
X-ALT-DESC;FMTTYPE=text/html:Enjoy a wonderful holiday!
LOCATION:
UID:e.1887.192
SEQUENCE:3
DTSTAMP:20260421T202650Z
URL:http://events.westcoastchamber.org/events/details/happy-thanksgiving-11-26-1998-192
END:VEVENT

END:VCALENDAR
