BEGIN:VCALENDAR
VERSION:2.0
PRODID:-//ChamberMaster//Event Calendar 2.0//EN
METHOD:PUBLISH
X-PUBLISHED-TTL:P3D
REFRESH-INTERVAL:P3D
CALSCALE:GREGORIAN
BEGIN:VEVENT
DTSTART;VALUE=DATE:19990116
DTEND;VALUE=DATE:19990117
TRANSP:TRANSPARENT
X-MICROSOFT-CDO-ALLDAYEVENT:TRUE
SUMMARY:Great Performance Series - ''The Angels' Cradle''
DESCRIPTION:Theatre Grottesco "The Angels' Cradle".  A dreamy pop opera...a parable of urban anomie and cultural neglect.  Hope College Theatre presentation.  DeWitt Theatre ticket info. 616-395-7860.
X-ALT-DESC;FMTTYPE=text/html:Theatre Grottesco "The Angels' Cradle".  A dreamy pop opera...a parable of urban anomie and cultural neglect.  Hope College Theatre presentation.  DeWitt Theatre ticket info. 616-395-7860.
LOCATION:Hope College Dewitt Theatre
UID:e.1887.289
SEQUENCE:3
DTSTAMP:20260421T175436Z
URL:http://events.westcoastchamber.org/events/details/great-performance-series-the-angels-cradle-01-16-1999-289
END:VEVENT

END:VCALENDAR
