BEGIN:VCALENDAR
VERSION:2.0
PRODID:-//ChamberMaster//Event Calendar 2.0//EN
METHOD:PUBLISH
X-PUBLISHED-TTL:P3D
REFRESH-INTERVAL:P3D
CALSCALE:GREGORIAN
BEGIN:VEVENT
DTSTART;VALUE=DATE:19990126
DTEND;VALUE=DATE:19990127
TRANSP:TRANSPARENT
X-MICROSOFT-CDO-ALLDAYEVENT:TRUE
SUMMARY:Great Performance Series - Les Violons du Roy
DESCRIPTION:A 15 member chamber orchestra.  Quebec City's Cherished Artist Export!"  An ensemble thoroughly prepared and eager to play!  For more information call 616-395-7860.
X-ALT-DESC;FMTTYPE=text/html:A 15 member chamber orchestra.  Quebec City's Cherished Artist Export!"  An ensemble thoroughly prepared and eager to play!  For more information call 616-395-7860.
LOCATION:Hope College - Dimnent Chapel
UID:e.1887.294
SEQUENCE:3
DTSTAMP:20260421T175410Z
URL:http://events.westcoastchamber.org/events/details/great-performance-series-les-violons-du-roy-01-26-1999-294
END:VEVENT

END:VCALENDAR
