BEGIN:VCALENDAR
VERSION:2.0
PRODID:-//ChamberMaster//Event Calendar 2.0//EN
METHOD:PUBLISH
X-PUBLISHED-TTL:P3D
REFRESH-INTERVAL:P3D
CALSCALE:GREGORIAN
BEGIN:VEVENT
DTSTART;VALUE=DATE:19981016
DTEND;VALUE=DATE:19981017
TRANSP:TRANSPARENT
X-MICROSOFT-CDO-ALLDAYEVENT:TRUE
SUMMARY:Governmental Affairs Committee
DESCRIPTION:Join us for an informal breakfast with our elected state and federal legislators.  Learn the latest on legislation important to the business community.  Ample time is provided for questions and answers.\n\nCost:  $7.50  Registrations welcomed.
X-ALT-DESC;FMTTYPE=text/html:Join us for an informal breakfast with our elected state and federal legislators.  Learn the latest on legislation important to the business community.  Ample time is provided for questions and answers.\n\nCost:  $7.50  Registrations welcomed.
LOCATION:Beechwood Inn
UID:e.1887.138
SEQUENCE:3
DTSTAMP:20260421T213808Z
URL:http://events.westcoastchamber.org/events/details/governmental-affairs-committee-10-16-1998-138
END:VEVENT

END:VCALENDAR
